BEGIN:VCALENDAR
VERSION:2.0
PRODID:-//ChamberMaster//Event Calendar 2.0//EN
METHOD:PUBLISH
X-PUBLISHED-TTL:P3D
REFRESH-INTERVAL:P3D
CALSCALE:GREGORIAN
BEGIN:VEVENT
DTSTART:20160819T003000Z
DTEND:20160819T020000Z
X-MICROSOFT-CDO-ALLDAYEVENT:FALSE
SUMMARY:Post Rodeo Fever -- Joint Networking Mixer
DESCRIPTION:Join Signs by Van for Post Rodeo Fever!\n\n\n\nBBQ & Bluegrass\n\nWine & Beer\n\nSign Making Demos\n\nBoot Stomping Good Time\n\n\n\nMember and prospective members of Salinas Valley Chamber of Commerce\, San Benito County Chamber of Commerce\, Paso Robles Chamber of Commerce\, and Monterey Peninsula Chamber of Commerce are welcome!
X-ALT-DESC;FMTTYPE=text/html:Join Signs by Van for&nbsp\;Post Rodeo Fever!<br />\n<br />\nBBQ &amp\; Bluegrass<br />\nWine &amp\; Beer<br />\nSign Making Demos<br />\nBoot Stomping Good Time<br />\n<br />\nMember and prospective members of&nbsp\;Salinas Valley Chamber of Commerce\, San Benito County Chamber of Commerce\, Paso Robles Chamber of Commerce\, and Monterey Peninsula Chamber of Commerce are welcome!
LOCATION:Signs by Van 16130 Hwy 156 Salinas\, CA
UID:e.2488.4834
SEQUENCE:3
DTSTAMP:20260424T102746Z
URL:https://business.pasorobleschamber.com/events/details/post-rodeo-fever-joint-networking-mixer-08-18-2016-4834
END:VEVENT

END:VCALENDAR
