BEGIN:VCALENDAR
VERSION:2.0
PRODID:-//ChamberMaster//Event Calendar 2.0//EN
METHOD:PUBLISH
X-PUBLISHED-TTL:P3D
REFRESH-INTERVAL:P3D
CALSCALE:GREGORIAN
BEGIN:VEVENT
DTSTART:20161217T220000Z
DTEND:20161218T010000Z
X-MICROSOFT-CDO-ALLDAYEVENT:FALSE
SUMMARY:PRYAF Holiday Party Art & Craft Fair
DESCRIPTION:Everyone is invited to experience the magic of Paso Robles Youth Arts Foundation at the Holiday Party Art & Craft Fair December 17\, 2016 (2 - 5pm)! This is a free\, family event featuring: Arts & Crafts Vendors Selling Unique Gifts Student Showcase Santa Claus & Mrs. Claus available for pictures! Goodies & Hot Chocolate Available FREE Fun for All! Come experience the magic of PRYAF! 3201 Spring St.\, Paso Robles (corner 32nd & Spring St.) Call 805-238-5825 for more information or to reserve a space as an arts/crafts vendor. www.pryaf.org
X-ALT-DESC;FMTTYPE=text/html:Everyone is invited to experience the magic of Paso Robles Youth Arts Foundation at the Holiday Party Art &amp\; Craft Fair December 17\, 2016 (2 - 5pm)! This is a free\, family event featuring: Arts &amp\; Crafts Vendors Selling Unique Gifts Student Showcase Santa Claus &amp\; Mrs. Claus available for pictures! Goodies &amp\; Hot Chocolate Available FREE Fun for All! Come experience the magic of PRYAF! 3201 Spring St.\, Paso Robles (corner 32nd &amp\; Spring St.) Call 805-238-5825 for more information or to reserve a space as an arts/crafts vendor. www.pryaf.org
LOCATION:Paso Robles Youth Arts Foundation 3201 Spring St. Paso Robles\, CA 93446
UID:e.2488.5658
SEQUENCE:3
DTSTAMP:20260424T032127Z
URL:https://business.pasorobleschamber.com/events/details/pryaf-holiday-party-art-craft-fair-5658
END:VEVENT

END:VCALENDAR
