BEGIN:VCALENDAR
VERSION:2.0
PRODID:-//ChamberMaster//Event Calendar 2.0//EN
METHOD:PUBLISH
X-PUBLISHED-TTL:P3D
REFRESH-INTERVAL:P3D
CALSCALE:GREGORIAN
BEGIN:VEVENT
DTSTART:20161105T210000Z
DTEND:20161106T000000Z
X-MICROSOFT-CDO-ALLDAYEVENT:FALSE
SUMMARY:Pugsgiving-Year of the Confucious Pug
DESCRIPTION:Join Us and your Pugs for our 5th Annual Pugsgiving Fundraiser / Gala. This year we are hosted by Changala Winery in Paso Robles for an intimate afternoon in honor of the breed we love and work so hard to save ~ The Pug. Enjoy our asian inspired four course wine and appetizer pairings by award winning chef Trish of Paso Catering.
X-ALT-DESC;FMTTYPE=text/html:Join Us and your Pugs for our 5th Annual Pugsgiving Fundraiser / Gala. This year we are hosted by Changala Winery in Paso Robles for an intimate afternoon in honor of the breed we love and work so hard to save ~ The Pug. Enjoy our asian inspired four course wine and appetizer pairings by award winning chef Trish of Paso Catering.
LOCATION:Changala Winery 3770 Willow Creek Road Paso Robles\, CA 93446
UID:e.2488.5620
SEQUENCE:3
DTSTAMP:20260424T044129Z
URL:https://business.pasorobleschamber.com/events/details/pugsgiving-year-of-the-confucious-pug-5620
END:VEVENT

END:VCALENDAR
