BEGIN:VCALENDAR
VERSION:2.0
PRODID:-//ChamberMaster//Event Calendar 2.0//EN
METHOD:PUBLISH
X-PUBLISHED-TTL:P3D
REFRESH-INTERVAL:P3D
CALSCALE:GREGORIAN
BEGIN:VEVENT
DTSTART;VALUE=DATE:20180707
DTEND;VALUE=DATE:20180709
TRANSP:TRANSPARENT
X-MICROSOFT-CDO-ALLDAYEVENT:TRUE
SUMMARY:Red\, Wine & Blue on the Pleasant Valley Wine Trail
DESCRIPTION:Complimentary American Bites\n\nTravel the Pleasant Valley Wine Trail 11am-5pm and receive a complimentary bite at each stop.\n\nOther tasting fees may apply.\n\n\n\nCinquain Gourmet BBQ Bite paired with Cinquain's 10th Anniversary Red Blends\n\nFour Sisters Ranch Vineyards Aged Havarti Cheese & Wine Slushies paired with Sauvignon Blanc\n\nGraveyard Vineyards Watermelon\, Feta & Mint Salad paired with Ascender Sparkling Wine\n\nHartley Farms Spiced Blueberry Meatballs\n\nJ&J Cellars Caprese Salad Skewers with Balsamic Drizzle paired with Chardonnay\n\nLocatelli Vineyards Smoked Tri-Tip Sliders with Blue Cheese Aioli paired with 2012 Estate Cabernet Franc\n\nMystic Hills Red White Blue Cake Pops paired with Unforgiven\n\nP.S. Cellars Homemade Rosemary Potato Chips with P.S. Cellars Grenache/Syrah\n\nRanchita Canyon Vineyard Sausage Bites paired with "Old Vine" Petite Sirah\n\nRiverstar Vineyards Pineapple Salsa Cups paired with Estate 2017 Sauvignon Blanc\n\nSan Marcos Creek Winery Cosmo rita Samples\, mixed with their Gabriella\n\nTackitt Family Vineyards Chicken Satay paired with 2017 Gewurztraminer\n\nVilla San Juliette Vineyards Cheesecake Bites paired with 2014 Merlot
X-ALT-DESC;FMTTYPE=text/html:<h1 style="text-align:center"><strong><span style="color:#0000FF">Complimentary American Bites</span></strong></h1>\n\n<div style="text-align:center"><em>Travel the Pleasant Valley Wine Trail 11am-5pm and receive a complimentary bite at each stop.<br />\nOther tasting fees may apply.</em><br />\n<br />\n<span style="font-size:14px">Cinquain Gourmet BBQ Bite paired with Cinquain&rsquo\;s 10th Anniversary Red Blends<br />\nFour Sisters Ranch Vineyards Aged Havarti Cheese &amp\; Wine Slushies paired with Sauvignon Blanc<br />\nGraveyard Vineyards Watermelon\, Feta &amp\; Mint Salad paired with Ascender Sparkling Wine<br />\nHartley Farms Spiced Blueberry Meatballs<br />\nJ&amp\;J Cellars Caprese Salad Skewers with Balsamic Drizzle paired with Chardonnay<br />\nLocatelli Vineyards Smoked Tri-Tip Sliders with Blue Cheese Aioli paired with 2012 Estate Cabernet Franc<br />\nMystic Hills Red White Blue Cake Pops paired with Unforgiven<br />\nP.S. Cellars Homemade Rosemary Potato Chips with P.S. Cellars Grenache/Syrah<br />\nRanchita Canyon Vineyard Sausage Bites paired with &quot\;Old Vine&quot\; Petite Sirah<br />\nRiverstar Vineyards Pineapple Salsa Cups paired with Estate 2017 Sauvignon Blanc<br />\nSan Marcos Creek Winery Cosmo rita Samples\, mixed with their Gabriella<br />\nTackitt Family Vineyards Chicken Satay paired with 2017 Gewurztraminer<br />\nVilla San Juliette Vineyards Cheesecake Bites paired with 2014 Merlot</span></div>\n
LOCATION:
UID:e.2488.9165
SEQUENCE:3
DTSTAMP:20260421T160643Z
URL:https://business.pasorobleschamber.com/events/details/red-wine-blue-on-the-pleasant-valley-wine-trail-9165
END:VEVENT

END:VCALENDAR
