BEGIN:VCALENDAR
VERSION:2.0
PRODID:-//ChamberMaster//Event Calendar 2.0//EN
METHOD:PUBLISH
X-PUBLISHED-TTL:P3D
REFRESH-INTERVAL:P3D
CALSCALE:GREGORIAN
BEGIN:VEVENT
DTSTART:20160916T233000Z
DTEND:20160917T023000Z
X-MICROSOFT-CDO-ALLDAYEVENT:FALSE
SUMMARY:Rhone Rangers Celebrate International Grenache Day at Tooth and Nail Winery
DESCRIPTION:International Grenache Day Seminar & Tasting! Friday\, September 16th\, 2016 4:00 - 5:30 p.m. Seminar 5:30 - 7:30 p.m. Tasting Tooth & Nail Winery Highway 46 West / Anderson Road\, Paso Robles\, CA 93446 (805) 369.6100 ph. Join the Paso Robles Rhone Rangers for a Friday Varietal Night! Storm the castle with the Paso Robles Rhone Rangers and celebrate International Grenache Day! Our September Varietal Night includes a very special Friday Night tasting featuring Grenache along with an Educational Seminar! SEMINAR: Featuring a panel of 6 Paso Robles Rhone Ranger winemakers\, explore the nuances of the Southern Rhone's favorite grape as you are led through an educational tasting of Grenache. Location: The Amor Fati Room at Tooth & Nail Winery. 4:00 - 5:30 p.m. $50 per person + tax (Includes seminar AND tasting admission.) VARIETAL NIGHT TASTING: Join 22 Paso Robles Rhone Ranger wineries for a fun evening celebrating Grenache! Enjoy delectable small bites and artisan cheese pairings from Tooth & Nail's Executive Chef Josh Hale! Live music with Joe Koenig & The Homewreckers completes the evening! Location: The Tooth & Nail Tasting Room and Tasting Terrace. 5:30 - 7:30 p.m. $25 per person + tax (General Admission). Featured Rhone Ranger wineries include: Anglim - Broken Earth - Burbank Ranch - Calcareous - Cass - Clautiere - Ecluse - Four Lanterns - Hope Family Wines - Kaleidos - Kukkula - Le Cuvier - ONX - Powell Mountain - Proulx - Seven Oxen - Still Waters - Tablas Creek - Tooth & Nail (host) - Venteux - Villa Creek - Zenaida
X-ALT-DESC;FMTTYPE=text/html:International Grenache Day Seminar &amp\; Tasting! Friday\, September 16th\, 2016 4:00 - 5:30 p.m. Seminar 5:30 - 7:30 p.m. Tasting Tooth &amp\; Nail Winery Highway 46 West / Anderson Road\, Paso Robles\, CA 93446 (805) 369.6100 ph. Join the Paso Robles Rhone Rangers for a Friday Varietal Night! Storm the castle with the Paso Robles Rhone Rangers and celebrate International Grenache Day! Our September Varietal Night includes a very special Friday Night tasting featuring Grenache along with an Educational Seminar! SEMINAR: Featuring a panel of 6 Paso Robles Rhone Ranger winemakers\, explore the nuances of the Southern Rhone&#39\;s favorite grape as you are led through an educational tasting of Grenache. Location: The Amor Fati Room at Tooth &amp\; Nail Winery. 4:00 - 5:30 p.m. $50 per person + tax (Includes seminar AND tasting admission.) VARIETAL NIGHT TASTING: Join 22 Paso Robles Rhone Ranger wineries for a fun evening celebrating Grenache! Enjoy delectable small bites and artisan cheese pairings from Tooth &amp\; Nail&#39\;s Executive Chef Josh Hale! Live music with Joe Koenig &amp\; The Homewreckers completes the evening! Location: The Tooth &amp\; Nail Tasting Room and Tasting Terrace. 5:30 - 7:30 p.m. $25 per person + tax (General Admission). Featured Rhone Ranger wineries include: Anglim - Broken Earth - Burbank Ranch - Calcareous - Cass - Clautiere - Ecluse - Four Lanterns - Hope Family Wines - Kaleidos - Kukkula - Le Cuvier - ONX - Powell Mountain - Proulx - Seven Oxen - Still Waters - Tablas Creek - Tooth &amp\; Nail (host) - Venteux - Villa Creek - Zenaida
LOCATION:Tooth & Nail Winery Highway 46 West / Anderson Road\, Paso Robles\, CA 93446 (805) 369.6100 ph.
UID:e.2488.5604
SEQUENCE:3
DTSTAMP:20260424T091556Z
URL:https://business.pasorobleschamber.com/events/details/rhone-rangers-celebrate-international-grenache-day-at-tooth-and-nail-winery-5604
END:VEVENT

END:VCALENDAR
