BEGIN:VCALENDAR
VERSION:2.0
PRODID:-//ChamberMaster//Event Calendar 2.0//EN
METHOD:PUBLISH
X-PUBLISHED-TTL:P3D
REFRESH-INTERVAL:P3D
CALSCALE:GREGORIAN
BEGIN:VEVENT
DTSTART:20160817T003000Z
DTEND:20160817T033000Z
X-MICROSOFT-CDO-ALLDAYEVENT:FALSE
SUMMARY:Rhones on the Range - BBQ Dinner & Tasting
DESCRIPTION:Join Mitchella and 28 other Paso Robles Rhone Ranger wineries for a spectacular summer evening tasting of our "Best" Red and White Rhone Wines paired with artisan cheeses and a special BBQ Dinner prepared by Chef Jacob Lovejoy of the Cass Cafe! Live music completes this Hot Tuesday. $65 per person. Advance purchase required. Please visit: http://rhonesonrange2016.bpt.me/ for tickets.\n\n\n\nMenu\n\nLocal Organic Mixed Baby Green Salad\n\nPomegranate Vinaigrette\, Slice Almonds\, Dried Currants\n\nGrilled Organic Sweet Corn\n\nRoasted Baby Red Potatoes with Rosemary & Garlic\n\nCilantro Lime Chicken with BBQ Sauce AND Vine Smoked Tri-Tip\n\nHouse Made Salsa & Garlic Bread
X-ALT-DESC;FMTTYPE=text/html:Join Mitchella and 28 other Paso Robles Rhone Ranger wineries for a spectacular summer evening tasting of our &quot\;Best&quot\; Red and White Rhone Wines paired with artisan cheeses and a special BBQ Dinner prepared by Chef Jacob Lovejoy of the Cass Cafe! Live music completes this Hot Tuesday. $65 per person. Advance purchase required. Please visit:&nbsp\;<a href="http://rhonesonrange2016.bpt.me/">http://rhonesonrange2016.bpt.me/</a> for tickets.\n\n<div style="text-align: center\;"><br />\nMenu<br />\n<em>Local Organic Mixed Baby Green Salad</em><br />\n<font size="1"><span style="line-height:14.4px">Pomegranate Vinaigrette\, Slice Almonds\, Dried Currants</span></font><br />\n<span style="font-size:14px"><em>Grilled Organic Sweet Corn<br />\nRoasted Baby Red Potatoes with Rosemary &amp\; Garlic<br />\nCilantro Lime Chicken with BBQ Sauce&nbsp\;</em><strong><span style="font-size:12px">AND</span>&nbsp\;</strong><em>Vine Smoked Tri-Tip<br />\nHouse Made Salsa &amp\; Garlic Bread</em></span></div>\n
LOCATION:Cass Winery 7350 Linne Road Paso Robles\, CA 93446
UID:e.2488.4818
SEQUENCE:3
DTSTAMP:20260424T102436Z
URL:https://business.pasorobleschamber.com/events/details/rhones-on-the-range-bbq-dinner-tasting-08-16-2016-4818
END:VEVENT

END:VCALENDAR
