BEGIN:VCALENDAR
VERSION:2.0
PRODID:-//ChamberMaster//Event Calendar 2.0//EN
METHOD:PUBLISH
X-PUBLISHED-TTL:P3D
REFRESH-INTERVAL:P3D
CALSCALE:GREGORIAN
BEGIN:VEVENT
DTSTART:20160317T220000Z
DTEND:20160317T223000Z
X-MICROSOFT-CDO-ALLDAYEVENT:FALSE
SUMMARY:Ribbon Cutting Ceremony -- Cantinas on Park!
DESCRIPTION:Ribbon Cutting Ceremony at Cantinas on Park!
X-ALT-DESC;FMTTYPE=text/html:Ribbon Cutting Ceremony at Cantinas on Park!
LOCATION:Cantinas on Park 1242 Park Street Paso Robles\, CA 93446
UID:e.2488.4627
SEQUENCE:3
DTSTAMP:20260424T210519Z
URL:https://business.pasorobleschamber.com/events/details/ribbon-cutting-ceremony-cantinas-on-park-03-17-2016-4627
END:VEVENT

END:VCALENDAR
