BEGIN:VCALENDAR
VERSION:2.0
PRODID:-//ChamberMaster//Event Calendar 2.0//EN
METHOD:PUBLISH
X-PUBLISHED-TTL:P3D
REFRESH-INTERVAL:P3D
CALSCALE:GREGORIAN
BEGIN:VEVENT
DTSTART:20160309T200000Z
DTEND:20160309T203000Z
X-MICROSOFT-CDO-ALLDAYEVENT:FALSE
SUMMARY:Ribbon Cutting Ceremony -- Smart & Final
DESCRIPTION:Ribbon Cutting Ceremony at Smart & Final!
X-ALT-DESC;FMTTYPE=text/html:Ribbon Cutting Ceremony at Smart &amp\; Final!
LOCATION:Smart & Final 1191 Creston Road Paso Robles\, CA 93446
UID:e.2488.4626
SEQUENCE:3
DTSTAMP:20260424T205504Z
URL:https://business.pasorobleschamber.com/events/details/ribbon-cutting-ceremony-smart-final-03-09-2016-4626
END:VEVENT

END:VCALENDAR
