BEGIN:VCALENDAR
VERSION:2.0
PRODID:-//ChamberMaster//Event Calendar 2.0//EN
METHOD:PUBLISH
X-PUBLISHED-TTL:P3D
REFRESH-INTERVAL:P3D
CALSCALE:GREGORIAN
BEGIN:VEVENT
DTSTART:20170809T230000Z
DTEND:20170810T020000Z
X-MICROSOFT-CDO-ALLDAYEVENT:FALSE
SUMMARY:Ribbon Cutting & Open House: FCPP Family Health - Paso Robles
DESCRIPTION:Join the Chamber as we Welcome with an official Ribbon Cutting the opening of the newest location for our Member\, First California Physician Partners Family Health - Paso Robles! \n\n\n\nThey have invited us to join them at their Open House event on Wednesday\, August 9\, 2017 to stop in and meet their staff and physician and tour the facility.
X-ALT-DESC;FMTTYPE=text/html:Join the Chamber as we Welcome with an official Ribbon Cutting the opening of the newest location for our Member\, First California Physician Partners Family Health - Paso Robles!&nbsp\;<br />\n<br />\nThey have invited us to join them at their Open House event on<strong> Wednesday\, August 9\, 2017</strong> to stop in and meet their staff and physician and tour the facility.&nbsp\;
LOCATION:FCPP Family Health - Paso Robles 2727 Buena Vista Drive Paso Robles\, CA 93446
UID:e.2488.6578
SEQUENCE:3
DTSTAMP:20260423T101305Z
URL:https://business.pasorobleschamber.com/events/details/ribbon-cutting-open-house-fcpp-family-health-paso-robles-6578
END:VEVENT

END:VCALENDAR
