BEGIN:VCALENDAR
VERSION:2.0
PRODID:-//ChamberMaster//Event Calendar 2.0//EN
METHOD:PUBLISH
X-PUBLISHED-TTL:P3D
REFRESH-INTERVAL:P3D
CALSCALE:GREGORIAN
BEGIN:VEVENT
DTSTART:20170217T020000Z
DTEND:20170217T030000Z
X-MICROSOFT-CDO-ALLDAYEVENT:FALSE
SUMMARY:Rising Rates: What You Need to Know
DESCRIPTION:Rates have been at historic lows for several years\, making the prospect of rising rates a concern for investors. This presentation will offer insight and help you make informed decisions regarding your investments in 2017. The seminar is free and open to the public.
X-ALT-DESC;FMTTYPE=text/html:Rates have been at historic lows for several years\, making the prospect of rising rates a concern for investors. This presentation will offer insight and help you make informed decisions regarding your investments in 2017. The seminar is free and open to the public.
LOCATION:SESLOC Federal Credit Union 705 Golden Hill Road Paso Robles\, CA 93446
UID:e.2488.6072
SEQUENCE:3
DTSTAMP:20260424T003117Z
URL:https://business.pasorobleschamber.com/events/details/rising-rates-what-you-need-to-know-6072
END:VEVENT

END:VCALENDAR
