BEGIN:VCALENDAR
VERSION:2.0
PRODID:-//ChamberMaster//Event Calendar 2.0//EN
METHOD:PUBLISH
X-PUBLISHED-TTL:P3D
REFRESH-INTERVAL:P3D
CALSCALE:GREGORIAN
BEGIN:VEVENT
DTSTART:20160711T010000Z
DTEND:20160711T030000Z
X-MICROSOFT-CDO-ALLDAYEVENT:FALSE
SUMMARY:Rock/Pop Concert at Cantinas On Park
DESCRIPTION:Like Bruno Mars?  Come see AIRSIDE at Cantinas on Park Sunday\, July 10th at 6pm.  AIRSIDE is a rock/pop band out of Memphis who's producer is Boo Mitchell.  He produced Bruno Mars's catchy hit\, Uptown Funk.  This will be a loud upbeat event at a unique venue in Downtown Paso Robles. Located underground at 1242 Park St.(to the right of FIsh Gaucho).
X-ALT-DESC;FMTTYPE=text/html:Like Bruno Mars? &nbsp\;Come see AIRSIDE at Cantinas on Park Sunday\, July 10th at 6pm. &nbsp\;AIRSIDE is a rock/pop band out of Memphis who&#39\;s producer is Boo Mitchell. &nbsp\;He produced Bruno Mars&#39\;s catchy hit\, Uptown Funk. &nbsp\;This will be a loud upbeat event at a unique venue in Downtown Paso Robles. Located underground at 1242 Park St.(to the right of FIsh Gaucho).
LOCATION:Cantinas On Park 1242 Park St. Paso Robles\, CA 93446 805.674.4804
UID:e.2488.4800
SEQUENCE:3
DTSTAMP:20260424T142918Z
URL:https://business.pasorobleschamber.com/events/details/rock-pop-concert-at-cantinas-on-park-07-10-2016-4800
END:VEVENT

END:VCALENDAR
