BEGIN:VCALENDAR
VERSION:2.0
PRODID:-//ChamberMaster//Event Calendar 2.0//EN
METHOD:PUBLISH
X-PUBLISHED-TTL:P3D
REFRESH-INTERVAL:P3D
CALSCALE:GREGORIAN
BEGIN:VEVENT
DTSTART:20230422T023000Z
DTEND:20230422T040000Z
X-MICROSOFT-CDO-ALLDAYEVENT:FALSE
SUMMARY:San Salvador
DESCRIPTION:Hailing from Correze in south-western France\, San Salvador is a six-voice and percussion collective that combines Occitan poetry with hypnotic vocal harmonies propelled by surging percussion. Their compositions use the Occitan language a Romance language spoken in southern France\, Italy's Occitan Valleys\, and in parts of Spain and Monaco  as a rhythmic instrument\, combining poetry with hypnotic vocal harmonies cascading over shifting patterns of compelling percussion to create their own songs. Tickets: $40 Student Discount Available
X-ALT-DESC;FMTTYPE=text/html:Hailing from Correze in south-western France\, San Salvador is a six-voice and percussion collective that combines Occitan poetry with hypnotic vocal harmonies propelled by surging percussion. Their compositions use the Occitan language&mdash\;a Romance language spoken in southern France\, Italy&rsquo\;s Occitan Valleys\, and in parts of Spain and Monaco&mdash\; as a rhythmic instrument\, combining poetry with hypnotic vocal harmonies cascading over shifting patterns of compelling percussion to create their own songs. Tickets: $40 Student Discount Available
LOCATION:Performing Arts Center San Luis Obispo 1 Grand Ave. San Luis Obispo\, CA 93407-0334
UID:e.2488.13490
SEQUENCE:3
DTSTAMP:20260421T224018Z
URL:https://business.pasorobleschamber.com/events/details/san-salvador-13490
END:VEVENT

END:VCALENDAR
