BEGIN:VCALENDAR
VERSION:2.0
PRODID:-//ChamberMaster//Event Calendar 2.0//EN
METHOD:PUBLISH
X-PUBLISHED-TTL:P3D
REFRESH-INTERVAL:P3D
CALSCALE:GREGORIAN
BEGIN:VEVENT
DTSTART:20181214T220000Z
DTEND:20181215T000000Z
X-MICROSOFT-CDO-ALLDAYEVENT:FALSE
SUMMARY:Santa Comes to Brookdale
DESCRIPTION:Santa comes to Brookdale with treats for all the kids!
X-ALT-DESC;FMTTYPE=text/html:Santa comes to Brookdale with treats for all the kids!
LOCATION:1919 Creston Road
UID:e.2488.9601
SEQUENCE:3
DTSTAMP:20260421T061747Z
URL:https://business.pasorobleschamber.com/events/details/santa-comes-to-brookdale-9601
END:VEVENT

END:VCALENDAR
