BEGIN:VCALENDAR
VERSION:2.0
PRODID:-//ChamberMaster//Event Calendar 2.0//EN
METHOD:PUBLISH
X-PUBLISHED-TTL:P3D
REFRESH-INTERVAL:P3D
CALSCALE:GREGORIAN
BEGIN:VEVENT
DTSTART:20160912T000000Z
DTEND:20160912T020000Z
X-MICROSOFT-CDO-ALLDAYEVENT:FALSE
SUMMARY:Savory Sunday @ Opolo
DESCRIPTION:Wine down with Opolo from 5-7pm and enjoy tunes brought to us by Good Medicine Presents. Free show\, no reservations required. Food and wine will be available for purchase by the glass and by the bottle.
X-ALT-DESC;FMTTYPE=text/html:Wine down with Opolo from 5-7pm and enjoy tunes brought to us by Good Medicine Presents. Free show\, no reservations required. Food and wine will be available for purchase by the glass and by the bottle.
LOCATION:7110 Vineyard Dr. Paso Robles\, CA 93446
UID:e.2488.4847
SEQUENCE:3
DTSTAMP:20260424T075040Z
URL:https://business.pasorobleschamber.com/events/details/savory-sunday-opolo-09-11-2016-4847
END:VEVENT

END:VCALENDAR
