BEGIN:VCALENDAR
VERSION:2.0
PRODID:-//ChamberMaster//Event Calendar 2.0//EN
METHOD:PUBLISH
X-PUBLISHED-TTL:P3D
REFRESH-INTERVAL:P3D
CALSCALE:GREGORIAN
BEGIN:VEVENT
DTSTART:20160815T000000Z
DTEND:20160815T020000Z
X-MICROSOFT-CDO-ALLDAYEVENT:FALSE
SUMMARY:Savory Sundays
DESCRIPTION:Wine down at Opolo Vineyards from 5-7pm and enjoy the tunes brought to us by Good Medicine Presents. Come experience the always entertaining JD Project!! Free show\, no reservations required. Food and wine will be available for purchase by the glass and by the bottle.
X-ALT-DESC;FMTTYPE=text/html:Wine down at Opolo Vineyards from 5-7pm and enjoy the tunes brought to us by Good Medicine Presents. Come experience the always entertaining JD Project!! Free show\, no reservations required. Food and wine will be available for purchase by the glass and by the bottle.
LOCATION:7110 Vineyard Dr. Paso Robles\, CA 93446
UID:e.2488.4846
SEQUENCE:3
DTSTAMP:20260421T105023Z
URL:https://business.pasorobleschamber.com/events/details/savory-sundays-08-14-2016-4846
END:VEVENT

END:VCALENDAR
