BEGIN:VCALENDAR
VERSION:2.0
PRODID:-//ChamberMaster//Event Calendar 2.0//EN
METHOD:PUBLISH
X-PUBLISHED-TTL:P3D
REFRESH-INTERVAL:P3D
CALSCALE:GREGORIAN
BEGIN:VEVENT
DTSTART:20161010T000000Z
DTEND:20161010T020000Z
X-MICROSOFT-CDO-ALLDAYEVENT:FALSE
SUMMARY:Savory Sundays
DESCRIPTION:Wine down with Opolo Vineyards ever from 5-7pm and enjoy tunes brought to us by Good Medicine Presents. Free show\, no reservations required. Food and wine will be available for purchase by the glass and by the bottle.
X-ALT-DESC;FMTTYPE=text/html:Wine down with Opolo Vineyards ever from 5-7pm and enjoy tunes brought to us by Good Medicine Presents. Free show\, no reservations required. Food and wine will be available for purchase by the glass and by the bottle.
LOCATION:7110 Vineyard Dr. Paso Robles\, CA 93446
UID:e.2488.4848
SEQUENCE:3
DTSTAMP:20260424T060331Z
URL:https://business.pasorobleschamber.com/events/details/savory-sundays-10-09-2016-4848
END:VEVENT

END:VCALENDAR
