BEGIN:VCALENDAR
VERSION:2.0
PRODID:-//ChamberMaster//Event Calendar 2.0//EN
METHOD:PUBLISH
X-PUBLISHED-TTL:P3D
REFRESH-INTERVAL:P3D
CALSCALE:GREGORIAN
BEGIN:VEVENT
DTSTART:20180824T163000Z
DTEND:20180824T193000Z
X-MICROSOFT-CDO-ALLDAYEVENT:FALSE
SUMMARY:Seminar: Skyrocket Your Brand With Digital Marketing & Beyond
DESCRIPTION:Whether you're just starting out or have a well-established business\, this class is for you! Learn how online and offline marketing can help you build and promote your brand. We will cover:\n\n\n	E-mail marketing tips and tricks including automations and landing pages\n	How to effectively use social media for your brand\n	Importance of good visuals (photo and video) to promote your brand\n	Learn about digital tools to help make your job easier\n	Offline marketing tactics including direct mail\, PR\, promotional products and more\n	Q&A- Come ready with your specific questions for your brand \n\n\n Register With SCORE\n\n \n\nWhere:\nAtascadero Chamber \n\n6907 El Camino Real - Ste A\n\nAtascadero\, CA 93422
X-ALT-DESC;FMTTYPE=text/html:<p><span style="font-family:arial\,helvetica\,sans-serif"><span style="font-size:12px"><span style="color:rgb(0\, 0\, 0)">Whether you&#39\;re just starting out or have a well-established business\, this class is for you! Learn how online and offline marketing can help you build and promote your brand. We will cover:</span></span></span></p>\n\n<ul>\n	<li><span style="font-family:arial\,helvetica\,sans-serif"><span style="font-size:12px"><span style="color:rgb(0\, 0\, 0)">E-mail marketing tips and tricks including automations and landing pages</span></span></span></li>\n	<li><span style="font-family:arial\,helvetica\,sans-serif"><span style="font-size:12px"><span style="color:rgb(0\, 0\, 0)">How to effectively use social media for your brand</span></span></span></li>\n	<li><span style="font-family:arial\,helvetica\,sans-serif"><span style="font-size:12px"><span style="color:rgb(0\, 0\, 0)">Importance of good visuals (photo and video) to promote your brand</span></span></span></li>\n	<li><span style="font-family:arial\,helvetica\,sans-serif"><span style="font-size:12px"><span style="color:rgb(0\, 0\, 0)">Learn about digital tools to help make your job easier</span></span></span></li>\n	<li><span style="font-family:arial\,helvetica\,sans-serif"><span style="font-size:12px"><span style="color:rgb(0\, 0\, 0)">Offline marketing tactics including direct mail\, PR\, promotional products and more</span></span></span></li>\n	<li><span style="font-family:arial\,helvetica\,sans-serif"><span style="font-size:12px"><span style="color:rgb(0\, 0\, 0)">Q&amp\;A- Come ready with your specific questions for your brand</span><span style="color:rgb(0\, 0\, 0)">&nbsp\;</span></span></span></li>\n</ul>\n\n<p><span style="background-color:rgb(250\, 250\, 250)\; color:rgb(128\, 128\, 128)\; font-family:arial\,helvetica\,sans-serif\; font-size:14pt"><span style="color:rgb(0\, 0\, 0)"><a href="http://events.r20.constantcontact.com/register/event?llr=zfoyrrcab&amp\;oeidk=a07efl6qj9c933f1282">&nbsp\;Register With SCORE</a></span></span><br />\n&nbsp\;</p>\n\n<h3>Where:</h3>\n<strong>Atascadero Chamber</strong>&nbsp\;<br />\n6907 El Camino Real - Ste A<br />\nAtascadero\, CA 93422&nbsp\;&nbsp\;
LOCATION:Atascadero Chamber 6907 El Camino Real - Ste A Atascadero\, CA 93422
UID:e.2488.9513
SEQUENCE:3
DTSTAMP:20260421T173250Z
URL:https://business.pasorobleschamber.com/events/details/seminar-skyrocket-your-brand-with-digital-marketing-beyond-9513
END:VEVENT

END:VCALENDAR
