BEGIN:VCALENDAR
VERSION:2.0
PRODID:-//ChamberMaster//Event Calendar 2.0//EN
METHOD:PUBLISH
X-PUBLISHED-TTL:P3D
REFRESH-INTERVAL:P3D
CALSCALE:GREGORIAN
BEGIN:VEVENT
DTSTART:20181007T200000Z
DTEND:20181007T220000Z
X-MICROSOFT-CDO-ALLDAYEVENT:FALSE
SUMMARY:Wine Seminar - The King of Grapes: Cabernet Sauvignon
DESCRIPTION:Cass Winery offers the perfect educational venue to become an advanced taster and wine aficionado. Katie Bay\, Certified Specialist of Wine and Level II Sommelier will guide you through a lively\, sensory experience that includes analysis\, discussion and tasting of wine.\n\nBy the end of the session\, you too will see how discovering the nuances of wine can be simple and above all fun!\n\n(Offered on a monthly basis\, public wine seminars are limited to 16 guests.)
X-ALT-DESC;FMTTYPE=text/html:<p>Cass Winery offers the perfect educational venue to become an advanced taster and wine aficionado. Katie Bay\, Certified Specialist of Wine and Level II Sommelier will guide you through a lively\, sensory experience that includes analysis\, discussion and tasting of wine.</p>\n\n<p>By the end of the session\, you too will see how discovering the nuances of wine can be simple and above all fun!</p>\n\n<p>(Offered on a monthly basis\, public wine seminars are limited to 16 guests.)</p>\n
LOCATION:Cass Winery 7350 Linne Rd. Paso Robles\, Ca 93446
UID:e.2488.4837
SEQUENCE:3
DTSTAMP:20260421T074627Z
URL:https://business.pasorobleschamber.com/events/details/september-wine-seminar-the-king-of-grapes-cabernet-sauvignon-09-18-2016-4837
END:VEVENT

END:VCALENDAR
