BEGIN:VCALENDAR
VERSION:2.0
PRODID:-//ChamberMaster//Event Calendar 2.0//EN
METHOD:PUBLISH
X-PUBLISHED-TTL:P3D
REFRESH-INTERVAL:P3D
CALSCALE:GREGORIAN
BEGIN:VEVENT
DTSTART:20260517T210000Z
DTEND:20260518T000000Z
X-MICROSOFT-CDO-ALLDAYEVENT:FALSE
SUMMARY:Sip for Smiles
DESCRIPTION:Enjoy a lovely afternoon and come sip\, snack and support with Tolosa Children's Dental Center. Sip on delicious wines from Filipponi Ranch Winery\, a beautiful charcuterie spread from Chef PR catering\, live music performed by Jack Milstead\, and an exciting live auction! This fundraising event is a wonderful opportunity to learn more about Tolosa Dental\, a local nonprofit that has been providing oral health care to underserved children in SLO County since 2003.
X-ALT-DESC;FMTTYPE=text/html:Enjoy a lovely afternoon and come sip\, snack and support with Tolosa Children&#39\;s Dental Center. Sip on delicious wines from Filipponi Ranch Winery\, a beautiful charcuterie spread from Chef PR catering\, live music performed by Jack Milstead\, and an exciting live auction! This fundraising event is a wonderful opportunity to learn more about Tolosa Dental\, a local nonprofit that has been providing oral health care to underserved children in SLO County since 2003.
LOCATION:Filipponi Ranch Winery located on 1850 Calle Joaquin\, San Luis Obispo\, CA 93405. Just right off the 101 near Target.
UID:e.2488.20096
SEQUENCE:3
DTSTAMP:20260421T002648Z
URL:https://business.pasorobleschamber.com/events/details/sip-for-smiles-05-17-2026-20096
END:VEVENT

END:VCALENDAR
