BEGIN:VCALENDAR
VERSION:2.0
PRODID:-//ChamberMaster//Event Calendar 2.0//EN
METHOD:PUBLISH
X-PUBLISHED-TTL:P3D
REFRESH-INTERVAL:P3D
CALSCALE:GREGORIAN
BEGIN:VEVENT
DTSTART:20170811T000000Z
DTEND:20170811T020000Z
X-MICROSOFT-CDO-ALLDAYEVENT:FALSE
SUMMARY:Sip & Paint at Summerwood Winery
DESCRIPTION:We're having a painting party at Summerwood! Our Sip & Paint night includes instruction in creating your sunflower painting\, all materials\, a glass of Summerwood wine and small bites. No experience necessary\, just a desire to have fun and create your very own masterpiece. Gather some friends for an enjoyable night out! Please call us to reserve your spot:  805.227.1365 ext. 11
X-ALT-DESC;FMTTYPE=text/html:We&rsquo\;re having a painting party at Summerwood! Our Sip &amp\; Paint night includes instruction in creating your sunflower painting\, all materials\, a glass of Summerwood wine and small bites. No experience necessary\, just a desire to have fun and create your very own masterpiece. Gather some friends for an enjoyable night out! Please call us to reserve your spot:&nbsp\; 805.227.1365 ext. 11
LOCATION:Summerwood Winery 2175 Arbor Road Paso Robles\, CA 93446
UID:e.2488.6552
SEQUENCE:3
DTSTAMP:20260423T111802Z
URL:https://business.pasorobleschamber.com/events/details/sip-paint-at-summerwood-winery-6552
END:VEVENT

END:VCALENDAR
