BEGIN:VCALENDAR
VERSION:2.0
PRODID:-//ChamberMaster//Event Calendar 2.0//EN
METHOD:PUBLISH
X-PUBLISHED-TTL:P3D
REFRESH-INTERVAL:P3D
CALSCALE:GREGORIAN
BEGIN:VEVENT
DTSTART:20170621T220000Z
DTEND:20170622T000000Z
X-MICROSOFT-CDO-ALLDAYEVENT:FALSE
SUMMARY:SIPS\, STORY\, AND SPEAKING TO MAKE YOUR BUSINESS SIZZLE
DESCRIPTION:SIPS\, STORY\, AND SPEAKING TO MAKE YOUR BUSINESS SIZZLE\n\n\n\nA special summer course is being held at the San Marcos Creek Vineyard and Winery in Paso Robles starting June 21 from 3-5 pm. The course is for business professionals and focuses on how to enhance your presentations\, videos\, speaking skills\, and other business communications for maximum impact.\n\n\n\n"One of the best ways to gain visibility and be seen as an authority in your field is to speak and be seen\," said Deborah Lee\, founder of Speak Your Best! and speaking coach to business and other professionals for over 20 years. "San Marcos Creek Winery has graciously offered their lovely setting for a relaxed\, fun\, and content-rich learning experience this summer."\n\n\n\nKimberly Morelli\, co-owner of the family-run San Marcos Creek Vineyard\, said\, "The winery enjoys providing a special place to entrepreneurs in the business community where they can enjoy themselves while learning new skills and enhancing their business opportunities." \n\n\n\nThe 8-week\, small group course is limited to 6-8 professionals and includes:\n\n\n\n16 hours of professional training\n\nCreating specific products for your business such as:\n\n--a signature talk to inspire\, educate\, and attract clients\n\n--telling your business and personal story\n\n--using video to increase business\n\n--speaking skills that grab and hold your audience's attention\n\nPlus\, customized "homework" assignments and expert evaluation and feedback\n\n\n\nThe course is designed to help professionals at all levels gain confidence and learn to speak powerfully and persuasively in almost any venue.\n\n\n\nIf you are interested in the course\, please contact Deborah Lee at (805) 994-9977 or deborah@speakyourbest.com. The deadline for the course sign-up is June 20.
X-ALT-DESC;FMTTYPE=text/html:SIPS\, STORY\, AND SPEAKING TO MAKE YOUR BUSINESS SIZZLE<br />\n<br />\nA special summer course is being held at the San Marcos Creek Vineyard and Winery in Paso Robles starting June 21 from 3-5 pm. The course is for business professionals and focuses on how to enhance your presentations\, videos\, speaking skills\, and other business communications for maximum impact.<br />\n<br />\n&ldquo\;One of the best ways to gain visibility and be seen as an authority in your field is to speak and be seen\,&rdquo\; said Deborah Lee\, founder of Speak Your Best! and speaking coach to business and other professionals for over 20 years. &ldquo\;San Marcos Creek Winery has graciously offered their lovely setting for a relaxed\, fun\, and content-rich learning experience this summer.&rdquo\;<br />\n<br />\nKimberly&nbsp\;Morelli\, co-owner of the family-run San Marcos Creek Vineyard\, said\, &ldquo\;The winery enjoys providing a special place to entrepreneurs in the business community where they can enjoy themselves while learning new skills and enhancing their business opportunities.&rdquo\;&nbsp\;<br />\n<br />\nThe 8-week\, small group course is limited to 6-8 professionals and includes:<br />\n<br />\n16 hours of professional training<br />\nCreating specific products for your business such as:<br />\n--a signature talk to inspire\, educate\, and attract clients<br />\n--telling your business and personal story<br />\n--using video to increase business<br />\n--speaking skills that grab and hold your audience&rsquo\;s attention<br />\nPlus\, customized &ldquo\;homework&rdquo\; assignments and expert evaluation and feedback<br />\n<br />\nThe course is designed to help professionals at all levels gain confidence and learn to speak powerfully and persuasively in almost any venue.<br />\n<br />\nIf you are interested in the course\, please contact Deborah Lee at (805) 994-9977 or&nbsp\;deborah@speakyourbest.com. The deadline for the course sign-up is June 20.
LOCATION:San Marcos Creek Vineyard & Winery 7750 Highway 101 Paso Robles\, CA 93446 www.sanmarcoscreek.com
UID:e.2488.6517
SEQUENCE:3
DTSTAMP:20260423T165229Z
URL:https://business.pasorobleschamber.com/events/details/sips-story-and-speaking-to-make-your-business-sizzle-6517
END:VEVENT

END:VCALENDAR
