BEGIN:VCALENDAR
VERSION:2.0
PRODID:-//ChamberMaster//Event Calendar 2.0//EN
METHOD:PUBLISH
X-PUBLISHED-TTL:P3D
REFRESH-INTERVAL:P3D
CALSCALE:GREGORIAN
BEGIN:VEVENT
DTSTART:20260617T020000Z
DTEND:20260617T063000Z
X-MICROSOFT-CDO-ALLDAYEVENT:FALSE
SUMMARY:Sir Woman at SLO Brew Rock
DESCRIPTION:We're bringing the magic back. Sir Woman heads out in Spring 2026 with a full band for a run of shows built around feel\, groove\, and real-time energy. Fronted by Kelsey Wilson - co-founder of Wild Child and member of Glorietta - Sir Woman blends gospel-influenced soul\, R&B\, funk\, and folk-pop into a sound that's warm\, physical\, and alive. The full band brings weight and swing\, creating shows that feel loose but intentional\, intimate but loud. Praised by NPR as "a brave new R&B-infused\, gospel-flecked world\," Sir Woman's live performances are about being in the room when it happens - when the band hits\, the groove settles in\, and the night takes on a life of its own. Catch Sir Woman at SLO Brew Rock on June 16th! Doors open at 7 PM and the show begins at 8 PM! All ages!
X-ALT-DESC;FMTTYPE=text/html:We&rsquo\;re bringing the magic back. Sir Woman heads out in Spring 2026 with a full band for a run of shows built around feel\, groove\, and real-time energy. Fronted by Kelsey Wilson - co-founder of Wild Child and member of Glorietta - Sir Woman blends gospel-influenced soul\, R&amp\;B\, funk\, and folk-pop into a sound that&rsquo\;s warm\, physical\, and alive. The full band brings weight and swing\, creating shows that feel loose but intentional\, intimate but loud. Praised by NPR as &ldquo\;a brave new R&amp\;B-infused\, gospel-flecked world\,&rdquo\; Sir Woman&rsquo\;s live performances are about being in the room when it happens - when the band hits\, the groove settles in\, and the night takes on a life of its own. Catch Sir Woman at SLO Brew Rock on June 16th! Doors open at 7 PM and the show begins at 8 PM! All ages!
LOCATION:SLO Brew Rock 855 Aerovista Pl San Luis Obispo\, CA 93401
UID:e.2488.20110
SEQUENCE:3
DTSTAMP:20260423T150922Z
URL:https://business.pasorobleschamber.com/events/details/sir-woman-at-slo-brew-rock-20110
END:VEVENT

END:VCALENDAR
