BEGIN:VCALENDAR
VERSION:2.0
PRODID:-//ChamberMaster//Event Calendar 2.0//EN
METHOD:PUBLISH
X-PUBLISHED-TTL:P3D
REFRESH-INTERVAL:P3D
CALSCALE:GREGORIAN
BEGIN:VEVENT
DTSTART:20190103T190000Z
DTEND:20190201T000000Z
X-MICROSOFT-CDO-ALLDAYEVENT:FALSE
SUMMARY:SLO Restaurant Month comes to Villa San-Juliette Winery!
DESCRIPTION:SLO Restaurant Month at Villa San Juliette\n\n\nDate/Time\n\n 01/3/2019 - 01/31/2019\n\n11:00 AM - 4:00 PM\n\nVilla San Juliette is participating in SLO Restaurant Month!\n\nJANUARY 2019 | EVERY THURSDAY through MONDAY\n\n11AM   5PM\n\n\n\n$40 3-COURSE PRIX-FIXE MENU\n\nWINE PAIRING INCLUDED\n\nCourse One\n\nHouse Salad or Seasonal Soup\n\n2017 Pinot Gris Reserve\n\nCourse Two\n\nOsso Bucco over Creamy Polenta & Saut ed Carrots\n\n2015 Cabernet Franc Reserve\n\nCourse Three\n\nAssortment of Gourmet Cheeses\n\n2016 Petite Sirah Reserve
X-ALT-DESC;FMTTYPE=text/html:<div><strong>SLO Restaurant Month at Villa San Juliette</strong></div>\n\n<div>\n<p><strong>Date/Time</strong><br />\n&nbsp\;01/3/2019 - 01/31/2019<br />\n<em>11:00 AM - 4:00 PM</em></p>\n\n<p><em>V</em><span style="font-family:inherit">illa San Juliette is participating in SLO Restaurant Month!</span></p>\n\n<p><span style="background-color:rgb(255\, 255\, 255)\; color:rgb(51\, 51\, 51)\; font-family:sans-serif\,arial\,verdana\,trebuchet ms\; font-size:13px">JANUARY 2019 | EVERY THURSDAY through MONDAY</span><br />\n<span style="background-color:rgb(255\, 255\, 255)\; color:rgb(51\, 51\, 51)\; font-family:sans-serif\,arial\,verdana\,trebuchet ms\; font-size:13px">11AM &ndash\; 5PM</span><br />\n<br />\n$40 3-COURSE PRIX-FIXE MENU<br />\nWINE PAIRING INCLUDED</p>\n\n<p>Course One<br />\nHouse Salad or Seasonal Soup<br />\n2017 Pinot Gris Reserve</p>\n\n<p>Course Two<br />\nOsso Bucco over Creamy Polenta &amp\; Saut&eacute\;ed Carrots<br />\n2015 Cabernet Franc Reserve</p>\n\n<p>Course Three<br />\nAssortment of Gourmet Cheeses<br />\n2016 Petite Sirah Reserve</p>\n</div>\n
LOCATION:6385 Cross Canyons Rd\, San Miguel\, CA 93451
UID:e.2488.9664
SEQUENCE:3
DTSTAMP:20260421T045217Z
URL:https://business.pasorobleschamber.com/events/details/slo-restaurant-month-comes-to-villa-san-juliette-winery-9664
END:VEVENT

END:VCALENDAR
