BEGIN:VCALENDAR
VERSION:2.0
PRODID:-//ChamberMaster//Event Calendar 2.0//EN
METHOD:PUBLISH
X-PUBLISHED-TTL:P3D
REFRESH-INTERVAL:P3D
CALSCALE:GREGORIAN
BEGIN:VEVENT
DTSTART:20170625T200000Z
DTEND:20170625T230000Z
X-MICROSOFT-CDO-ALLDAYEVENT:FALSE
SUMMARY:SLOPE Art Exhibit at Dana Adobe
DESCRIPTION:DANA Cultural Center has teamed up with SLOPE to showcase paintings of the beautiful rural landscapes on the central coast! The Art exhibition is open until September 3rd on Saturdays 10:00 AM - 1:00 PM and Sundays 1:00 PM - 4:00 PM. For more information or to schedule an appointment call (805) 929-5679.
X-ALT-DESC;FMTTYPE=text/html:DANA Cultural Center has teamed up with SLOPE to showcase paintings of the beautiful rural landscapes on the central coast! The Art exhibition is open until September 3rd on Saturdays 10:00 AM - 1:00 PM and Sundays 1:00 PM - 4:00 PM. For more information or to schedule an appointment call (805) 929-5679.
LOCATION:671 S Oakglen Ave\, Nipomo\, CA 93444
UID:e.2488.6548
SEQUENCE:3
DTSTAMP:20260423T163837Z
URL:https://business.pasorobleschamber.com/events/details/slope-art-exhibit-at-dana-adobe-06-25-2017-6548
END:VEVENT

END:VCALENDAR
