BEGIN:VCALENDAR
VERSION:2.0
PRODID:-//ChamberMaster//Event Calendar 2.0//EN
METHOD:PUBLISH
X-PUBLISHED-TTL:P3D
REFRESH-INTERVAL:P3D
CALSCALE:GREGORIAN
BEGIN:VEVENT
DTSTART:20160717T000000Z
DTEND:20160717T030000Z
X-MICROSOFT-CDO-ALLDAYEVENT:FALSE
SUMMARY:Soul Kitchen
DESCRIPTION:The Wellness Kitchen by Day.... Soul Kitchen by Night! Dinner\, wine tasting\, silent auction of "artsy aprons" and more. Grand Raffle dinner for 6 at The Kitchen! Live music by Route 66. Donations and proceeds benefit the Pay It Forward meal program that provides nutritious food for those coping with cancer and serious illness.
X-ALT-DESC;FMTTYPE=text/html:The Wellness Kitchen by Day.... Soul Kitchen by Night! Dinner\, wine tasting\, silent auction of &quot\;artsy aprons&quot\; and more. Grand Raffle dinner for 6 at The Kitchen! Live music by Route 66. Donations and proceeds benefit the Pay It Forward meal program that provides nutritious food for those coping with cancer and serious illness.
LOCATION:The Wellness Kitchen & Resource Center 1255 Las Tablas Road\, Templeton\, next to Heritage Oaks Bank
UID:e.2488.4778
SEQUENCE:3
DTSTAMP:20260423T045125Z
URL:https://business.pasorobleschamber.com/events/details/soul-kitchen-07-16-2016-4778
END:VEVENT

END:VCALENDAR
