BEGIN:VCALENDAR
VERSION:2.0
PRODID:-//ChamberMaster//Event Calendar 2.0//EN
METHOD:PUBLISH
X-PUBLISHED-TTL:P3D
REFRESH-INTERVAL:P3D
CALSCALE:GREGORIAN
BEGIN:VEVENT
DTSTART:20171118T033000Z
DTEND:20171118T060000Z
X-MICROSOFT-CDO-ALLDAYEVENT:FALSE
SUMMARY:Sound in Clay | A Concert Ceremony
DESCRIPTION:Surround yourself in the ancient sound of clay in modern harmony on Friday\, November 17th at 7:30pm. Hans Houkes and Alan Tower\, the Innate Clay Duo\, will create a one-of-a-kind musical experience with Netherland singing sculptures that have been designed to stimulate our inborn ability to listen from within and play from the inside out. Performing compositions and improvisations from their upcoming album "Innate Clay"\, our French-inspired Abbey offers ceremonial and sonic resonance for an acoustic adventure unlike any other. The sweet sounds of your journey will conclude with the Ceremony of Gratitude\, led by Supriya Ishaya\, where attendees will receive a personal sound experience to take home and will have the chance to play one of these unique instruments.
X-ALT-DESC;FMTTYPE=text/html:<div>\n<div><span style="font-family:inherit">Surround yourself in the ancient sound of clay in modern harmony on Friday\, November 17th at 7:30pm. Hans Houkes and Alan Tower\, the Innate Clay Duo\, will create a one-of-a-kind musical experience with Netherland singing sculptures that have been designed to stimulate our inborn ability to listen from within and play from the inside out. Performing compositions and improvisations from their upcoming album &ldquo\;Innate Clay&rdquo\;\, our French-inspired Abbey offers ceremonial and sonic resonance for an acoustic adventure unlike any other. The sweet sounds of your journey will conclude with the Ceremony of Gratitude\, led by Supriya Ishaya\, where attendees will receive a personal sound experience to take home and will have the chance to play one of these unique instruments. </span></div>\n</div>\n\n<div>\n<div>&nbsp\;</div>\n</div>\n
LOCATION:Allegretto Vineyard Resort 2700 Buena Vista Drive Paso Robles\, CA 93446
UID:e.2488.6850
SEQUENCE:3
DTSTAMP:20260422T142234Z
URL:https://business.pasorobleschamber.com/events/details/sound-in-clay-a-concert-ceremony-6850
END:VEVENT

END:VCALENDAR
