BEGIN:VCALENDAR
VERSION:2.0
PRODID:-//ChamberMaster//Event Calendar 2.0//EN
METHOD:PUBLISH
X-PUBLISHED-TTL:P3D
REFRESH-INTERVAL:P3D
CALSCALE:GREGORIAN
BEGIN:VEVENT
DTSTART:20160319T010000Z
DTEND:20160319T033000Z
X-MICROSOFT-CDO-ALLDAYEVENT:FALSE
SUMMARY:Spider-Man a Musical at Paso Robles Youth Arts Foundation
DESCRIPTION:?Spider-Man a Musical? Lives at Paso Robles Youth Arts Foundation! PRYAF?s Drama students bring the heroism of the world?s favorite Spidey to life. Written by PRYAF?s Drama Department and Show Director/Drama Teacher\, Kim Whitney-Sundberg. All are welcome! Shows are 3/18\, 6PM and 3/19\, 1 & 4PM
X-ALT-DESC;FMTTYPE=text/html:?Spider-Man a Musical? Lives at Paso Robles Youth Arts Foundation! PRYAF?s Drama students bring the heroism of the world?s favorite Spidey to life. Written by PRYAF?s Drama Department and Show Director/Drama Teacher\, Kim Whitney-Sundberg. All are welcome! Shows are 3/18\, 6PM and 3/19\, 1 &amp\; 4PM
LOCATION:Paso Robles Youth Arts Foundation 3201 Spring St. Paso Robles\, CA 93446
UID:e.2488.4565
SEQUENCE:3
DTSTAMP:20260424T212008Z
URL:https://business.pasorobleschamber.com/events/details/spider-man-a-musical-at-paso-robles-youth-arts-foundation-03-18-2016-4565
END:VEVENT

END:VCALENDAR
