BEGIN:VCALENDAR
VERSION:2.0
PRODID:-//ChamberMaster//Event Calendar 2.0//EN
METHOD:PUBLISH
X-PUBLISHED-TTL:P3D
REFRESH-INTERVAL:P3D
CALSCALE:GREGORIAN
BEGIN:VEVENT
DTSTART:20170304T200000Z
DTEND:20170305T010000Z
X-MICROSOFT-CDO-ALLDAYEVENT:FALSE
SUMMARY:Spring Party at Olivas de Oro
DESCRIPTION:Everyone is welcome to our Spring Olive Oil Party! We are releasing all of our new 2017 olive oils. Club members can pick up their spring club shipment and enjoy samples\, live music from 12-3\, and lunch (Tasty skirt steak skewers over squid ink pasta with truffle olive oil)! We will also be flying kites\, use ours or bring your own. Live Music by 'Two for the Road' RSVP 805-227-4223 (recommend not required) Get $5 off purchase with RSVP before 2/27/17
X-ALT-DESC;FMTTYPE=text/html:Everyone is welcome to our Spring Olive Oil Party! We are releasing all of our new 2017 olive oils. Club members can pick up their spring club shipment and enjoy samples\, live music from 12-3\, and lunch (Tasty skirt steak skewers over squid ink pasta with truffle olive oil)! We will also be flying kites\, use ours or bring your own. Live Music by &#39\;Two for the Road&#39\; RSVP 805-227-4223 (recommend not required) Get $5 off purchase with RSVP before 2/27/17
LOCATION:Olivas de Oro 4625 La Panza Road Creston CA 93432
UID:e.2488.6091
SEQUENCE:3
DTSTAMP:20260419T232400Z
URL:https://business.pasorobleschamber.com/events/details/spring-party-at-olivas-de-oro-6091
END:VEVENT

END:VCALENDAR
