BEGIN:VCALENDAR
VERSION:2.0
PRODID:-//ChamberMaster//Event Calendar 2.0//EN
METHOD:PUBLISH
X-PUBLISHED-TTL:P3D
REFRESH-INTERVAL:P3D
CALSCALE:GREGORIAN
BEGIN:VEVENT
DTSTART:20170304T200000Z
DTEND:20170304T220000Z
X-MICROSOFT-CDO-ALLDAYEVENT:FALSE
SUMMARY:Spring Wine Club Pickup Party
DESCRIPTION:Pick up your Spring wine club shipment and enjoy a glass of wine at our famous La Famiglia luncheon\, from noon to 2:00pm   RSVPs required. Call Savannah at 805-227-4000\, email s.romero@levignwinery\, or find tickets in the online shop at www.levignewinery.com.\n\n\n\nChef Walter Filippini will be preparing a fantastic menu for you to enjoy in our Barrel Room. We hope to see you there!
X-ALT-DESC;FMTTYPE=text/html:<span style="color:rgb(75\, 79\, 86)\; font-family:helvetica\,arial\,sans-serif\; font-size:14px">Pick up your Spring wine club shipment and enjoy a glass of wine at our famous La Famiglia luncheon\, from noon to 2:00pm &ndash\; RSVPs required. Call Savannah at 805-227-4000\, email s.romero@levignwinery\, or find tickets in the online shop at&nbsp\;</span><a href="http://www.levignewinery.com/" rel="nofollow noopener nofollow" style="color: rgb(54\, 88\, 153)\; cursor: pointer\; text-decoration: none\; font-family: Helvetica\, Arial\, sans-serif\; font-size: 14px\;" target="_blank">www.levignewinery.com.</a><br />\n<br />\n<span style="color:rgb(75\, 79\, 86)\; font-family:helvetica\,arial\,sans-serif\; font-size:14px">Chef Walter Filippini will be preparing a fantastic menu for you to enjoy in our Barrel Room. We hope to see you there!</span>
LOCATION:Le Vigne Winery
UID:e.2488.6087
SEQUENCE:3
DTSTAMP:20260423T224506Z
URL:https://business.pasorobleschamber.com/events/details/spring-wine-club-pickup-party-6087
END:VEVENT

END:VCALENDAR
