BEGIN:VCALENDAR
VERSION:2.0
PRODID:-//ChamberMaster//Event Calendar 2.0//EN
METHOD:PUBLISH
X-PUBLISHED-TTL:P3D
REFRESH-INTERVAL:P3D
CALSCALE:GREGORIAN
BEGIN:VEVENT
DTSTART;VALUE=DATE:20160513
DTEND;VALUE=DATE:20160514
TRANSP:TRANSPARENT
X-MICROSOFT-CDO-ALLDAYEVENT:TRUE
SUMMARY:State of North County
DESCRIPTION:What's Happening in The North County??\n\nCity Updates from the Mayors & City Managers of Paso Robles & Atascadero\n\nHosted By: Paso Robles & Atascadero Chamber
X-ALT-DESC;FMTTYPE=text/html:<h1 style="margin: 0px 0px 10px\; padding: 0px\; font-family: 'UniversLTW01-57Condense 723821'\, Arial\, Helvetica\, sans-serif\; font-size: 26px\; line-height: 28px\; color: rgb(0\, 16\, 103)\; text-align: center\;"><br />\n<strong style="margin: 0px\; padding: 0px\;">What&#39\;s Happening in The North County??</strong></h1>\n\n<h1 style="margin: 0px 0px 10px\; padding: 0px\; font-family: 'UniversLTW01-57Condense 723821'\, Arial\, Helvetica\, sans-serif\; font-size: 26px\; line-height: 28px\; color: rgb(0\, 16\, 103)\; text-align: center\;"><strong style="margin: 0px\; padding: 0px\;">City Updates from the Mayors &amp\; City Managers of Paso Robles &amp\; Atascadero</strong></h1>\n\n<h2 style="margin: 0px 0px 5px\; padding: 0px\; font-family: 'UniversLTW01-57Condense 723821'\, Arial\, Helvetica\, sans-serif\; font-size: 22px\; line-height: 24px\; color: rgb(112\, 129\, 47)\; text-align: center\;"><em style="margin: 0px\; padding: 0px\;">Hosted By: Paso Robles &amp\; Atascadero Chamber</em></h2>\n
LOCATION:
UID:e.2488.4630
SEQUENCE:3
DTSTAMP:20260424T155201Z
URL:https://business.pasorobleschamber.com/events/details/state-of-north-county-05-13-2016-4630
END:VEVENT

END:VCALENDAR
