BEGIN:VCALENDAR
VERSION:2.0
PRODID:-//ChamberMaster//Event Calendar 2.0//EN
METHOD:PUBLISH
X-PUBLISHED-TTL:P3D
REFRESH-INTERVAL:P3D
CALSCALE:GREGORIAN
BEGIN:VEVENT
DTSTART:20170518T153000Z
DTEND:20170518T183000Z
X-MICROSOFT-CDO-ALLDAYEVENT:FALSE
SUMMARY:State of the North County
DESCRIPTION:The Atascadero\, Paso Robles and the Templeton Chambers have come together to bring you the 2017 State of the North County. \n\nJoin us for an informative progress report on the local economy from government leaders who will provide economic and community developments that affect our North County residential and business communities.   \n\nThis is sure to be an excellent event you do not want to miss!
X-ALT-DESC;FMTTYPE=text/html:The Atascadero\, Paso Robles and the Templeton Chambers have come together to bring you the 2017 State of the North County.&nbsp\;<br />\nJoin us for an informative progress report on the local economy from government leaders who will provide economic and community developments that affect our North County residential and business communities. &nbsp\;&nbsp\;<br />\nThis is sure to be an excellent event you do not want to miss!&nbsp\;
LOCATION:SpringHill Suites by Marriott 900 El Camino Real Atascadero\, CA 93422
UID:e.2488.6120
SEQUENCE:3
DTSTAMP:20260423T184115Z
URL:https://business.pasorobleschamber.com/events/details/state-of-the-north-county-6120
END:VEVENT

END:VCALENDAR
