BEGIN:VCALENDAR
VERSION:2.0
PRODID:-//ChamberMaster//Event Calendar 2.0//EN
METHOD:PUBLISH
X-PUBLISHED-TTL:P3D
REFRESH-INTERVAL:P3D
CALSCALE:GREGORIAN
BEGIN:VEVENT
DTSTART:20250713T010000Z
DTEND:20250713T030000Z
X-MICROSOFT-CDO-ALLDAYEVENT:FALSE
SUMMARY:After Hours at Still Waters Vineyards: Club DV8 Band
DESCRIPTION:Club DV8 is a local SLO County 80's era dance music group covering select hits from the 80's combining guitars and synths with a solid rhythm section to create that 80's sound. Their High Energy set includes music by artists such as David Bowie\, The Cars\, INXS\, The Cure\, MJ and many more. Get your dancing shoes on and join us with a fabulous band\, Club DV8 is quickly emerging as one SLO counties must see bands!\n\n \nClub members get 2 free tickets with a complimentary first glass of wine. Non-club entry is $10\, wine available for purchase. Cheese plates available for purchase too. Entry payment collected at the door. Open seating so bring your chairs and blankets for the perfect spot. Outside food welcome. See you there!
X-ALT-DESC;FMTTYPE=text/html:<span style="font-size:14px"><span style="background-color:rgb(255\, 255\, 255)">Club DV8 is a local SLO County 80&rsquo\;s era dance music group covering select hits from the 80&rsquo\;s combining guitars and synths with a solid rhythm section to create that 80&rsquo\;s sound. Their High Energy set includes music by artists such as David Bowie\, The Cars\, INXS\, The Cure\, MJ and many more. Get your dancing shoes on and join us with a fabulous band\, Club DV8 is quickly emerging as one SLO counties must see bands!</span></span><br />\n&nbsp\;\n<p><span style="font-size:14px">Club members get 2 free tickets with a complimentary first glass of wine. Non-club entry is $10\, wine available for purchase. Cheese plates available for purchase too. Entry payment collected at the door. <strong>Open seating so bring your chairs and blankets for the perfect spot. Outside food welcome. See you there!</strong></span></p>\n\n<div>&nbsp\;</div>\n
LOCATION:Still Waters Vineyards 2750 Old Grove Lane Paso Robles\, CA 93446 805-237-9231
UID:e.2488.17655
SEQUENCE:3
DTSTAMP:20260423T083454Z
URL:https://business.pasorobleschamber.com/events/details/still-waters-vineyards-live-music-and-tacos-with-dv8-band-17655
END:VEVENT

END:VCALENDAR
