BEGIN:VCALENDAR
VERSION:2.0
PRODID:-//ChamberMaster//Event Calendar 2.0//EN
METHOD:PUBLISH
X-PUBLISHED-TTL:P3D
REFRESH-INTERVAL:P3D
CALSCALE:GREGORIAN
BEGIN:VEVENT
DTSTART:20180505T190000Z
DTEND:20180505T210000Z
X-MICROSOFT-CDO-ALLDAYEVENT:FALSE
SUMMARY:Summer Wine Club Pickup Party
DESCRIPTION:Pick up your Summer wine club shipment and enjoy a glass of wine at our famous La Famiglia luncheon\, from noon to 2:00pm   RSVPs required. Chef Walter Filippini will be preparing a fantastic menu for you to enjoy in our Barrel Room. Choose from a selection of wines from the Summer shipment to enjoy with your lunch.  Additional wine will be available for purchase by the glass. Call Savannah to RSVP at 805-227-4000\, or send her an email at s.romero@levignewinery.com.  We hope to see you there!
X-ALT-DESC;FMTTYPE=text/html:Pick up your Summer wine club shipment and enjoy a glass of wine at our famous La Famiglia luncheon\, from noon to 2:00pm &ndash\; RSVPs required. Chef Walter Filippini will be preparing a fantastic menu for you to enjoy in our Barrel Room. Choose from a selection of wines from the Summer shipment to enjoy with your lunch.&nbsp\; Additional wine will be available for purchase by the glass. Call Savannah to RSVP at 805-227-4000\, or send her an email at s.romero@levignewinery.com.&nbsp\; We hope to see you there!
LOCATION:Le Vigne Winery 5115 Buena Vista Drive Paso Robles\, CA 93446
UID:e.2488.8111
SEQUENCE:3
DTSTAMP:20260421T235150Z
URL:https://business.pasorobleschamber.com/events/details/summer-wine-club-pickup-party-8111
END:VEVENT

END:VCALENDAR
