BEGIN:VCALENDAR
VERSION:2.0
PRODID:-//ChamberMaster//Event Calendar 2.0//EN
METHOD:PUBLISH
X-PUBLISHED-TTL:P3D
REFRESH-INTERVAL:P3D
CALSCALE:GREGORIAN
BEGIN:VEVENT
DTSTART:20180422T013000Z
DTEND:20180422T040000Z
X-MICROSOFT-CDO-ALLDAYEVENT:FALSE
SUMMARY:Summerwood Barrel Room Wood-Fired Winemaker Dinner - SOLD OUT
DESCRIPTION:We will be hosting a unique winemaker dinner in our barrel room in April. Farmstead Catering will create an amazing four-course meal entirely from their wood-burning oven. Space is limited\, so call the tasting room or visit our website to purchase your place at the table! Sorry\, this event has been sold out!
X-ALT-DESC;FMTTYPE=text/html:We will be hosting a unique winemaker dinner in our barrel room in April. Farmstead Catering will create an amazing four-course meal entirely from their wood-burning oven. Space is limited\, so call the tasting room or visit our website to purchase your place at the table! Sorry\, this event has been sold out!
LOCATION:Summerwood Winery & Inn 2175 Arbor Road Paso Robles\, CA 93446
UID:e.2488.8062
SEQUENCE:3
DTSTAMP:20260422T032659Z
URL:https://business.pasorobleschamber.com/events/details/summerwood-barrel-room-wood-fired-winemaker-dinner-8062
END:VEVENT

END:VCALENDAR
