BEGIN:VCALENDAR
VERSION:2.0
PRODID:-//ChamberMaster//Event Calendar 2.0//EN
METHOD:PUBLISH
X-PUBLISHED-TTL:P3D
REFRESH-INTERVAL:P3D
CALSCALE:GREGORIAN
BEGIN:VEVENT
DTSTART:20170409T003000Z
DTEND:20170409T040000Z
X-MICROSOFT-CDO-ALLDAYEVENT:FALSE
SUMMARY:Summerwood Winery Barrel Room Dinner
DESCRIPTION:Celebrate spring with an intimate and unique food and wine pairing experience in the ambiance of the Summerwood Barrel Room. Chef Julie Simon of Foremost Wine Co. will be crafting delectable dishes partnered with our boutique wines. Limited seats are available\, so call to reserve your place at the table: 805.227.1365 ext. 11
X-ALT-DESC;FMTTYPE=text/html:<span style="color:#1D2129"><span style="font-family:calibri\,sans-serif"><span style="font-size:11.0pt">Celebrate spring with an intimate and unique food and wine pairing experience in the ambiance of the Summerwood Barrel Room. Chef Julie Simon of Foremost Wine Co. will be crafting delectable dishes partnered with our boutique wines. Limited seats are available\, so call to reserve your place at the table: 805.227.1365 ext. 11</span></span></span><br />\n&nbsp\;
LOCATION:Summerwood Winery Barrel Room
UID:e.2488.6121
SEQUENCE:3
DTSTAMP:20260423T213224Z
URL:https://business.pasorobleschamber.com/events/details/summerwood-winery-barrel-room-dinner-6121
END:VEVENT

END:VCALENDAR
