BEGIN:VCALENDAR
VERSION:2.0
PRODID:-//ChamberMaster//Event Calendar 2.0//EN
METHOD:PUBLISH
X-PUBLISHED-TTL:P3D
REFRESH-INTERVAL:P3D
CALSCALE:GREGORIAN
BEGIN:VEVENT
DTSTART:20260628T013000Z
DTEND:20260628T040000Z
X-MICROSOFT-CDO-ALLDAYEVENT:FALSE
SUMMARY:Sunset on the Farm | An Evening Lavender Experience
DESCRIPTION:As the day quiets and golden light settles across the hills\, Hambly Lavender Farm opens for a limited\, after-hours experience designed to help you slow down and breathe a little deeper. Wander the lavender fields at sunset\, harvest your own bouquet\, and enjoy a peaceful evening surrounded by wide-open views and the soft scent of lavender in the air. A featured local winery will be onsite pouring a taste to enjoy as the sun slips behind the horizon. Evening Dates & Winery Partners May 30   Eberle Winery June 27   Hoyt Family Wines July 11   Austin Hope Wines July 18   Stilson Cellars July 25   Serial Wines Bring a light picnic and your favorite beverage\, settle into one of our open seating areas\, and let the evening unfold at its own pace. This adults-only experience is intentionally limited for a calm\, relaxed atmosphere reservations required.
X-ALT-DESC;FMTTYPE=text/html:As the day quiets and golden light settles across the hills\, Hambly Lavender Farm opens for a limited\, after-hours experience designed to help you slow down and breathe a little deeper. Wander the lavender fields at sunset\, harvest your own bouquet\, and enjoy a peaceful evening surrounded by wide-open views and the soft scent of lavender in the air. A featured local winery will be onsite pouring a taste to enjoy as the sun slips behind the horizon. Evening Dates &amp\; Winery Partners May 30 &ndash\; Eberle Winery June 27 &ndash\; Hoyt Family Wines July 11 &ndash\; Austin Hope Wines July 18 &ndash\; Stilson Cellars July 25 &ndash\; Serial Wines Bring a light picnic and your favorite beverage\, settle into one of our open seating areas\, and let the evening unfold at its own pace. This adults-only experience is intentionally limited for a calm\, relaxed atmosphere&mdash\;reservations required.
LOCATION:Hambly Lavender Farm
UID:e.2488.20104
SEQUENCE:3
DTSTAMP:20260421T030851Z
URL:https://business.pasorobleschamber.com/events/details/sunset-on-the-farm-an-evening-lavender-experience-06-27-2026-20104
END:VEVENT

END:VCALENDAR
