BEGIN:VCALENDAR
VERSION:2.0
PRODID:-//ChamberMaster//Event Calendar 2.0//EN
METHOD:PUBLISH
X-PUBLISHED-TTL:P3D
REFRESH-INTERVAL:P3D
CALSCALE:GREGORIAN
BEGIN:VEVENT
DTSTART:20190203T190000Z
DTEND:20190204T020000Z
X-MICROSOFT-CDO-ALLDAYEVENT:FALSE
SUMMARY:Super Bowl Sunday with Steve
DESCRIPTION:Join Steve for the Super Bowl. We'll have the game on and one-day-only entr e items on our Cass caf  menu inspired by the two teams. We'll also have wine specials just for Super Bowl Sunday! Food & wine will be available for purchase and we'll stay open until the game ends.
X-ALT-DESC;FMTTYPE=text/html:Join Steve for the Super Bowl.&nbsp\;We&rsquo\;ll have the game on and one-day-only entr&eacute\;e items on our Cass caf&eacute\; menu inspired by the two teams. We&rsquo\;ll also have wine specials just for Super Bowl Sunday! Food &amp\; wine will be available for purchase and we&rsquo\;ll stay open until the game ends.
LOCATION:
UID:e.2488.9627
SEQUENCE:3
DTSTAMP:20260421T014406Z
URL:https://business.pasorobleschamber.com/events/details/super-bowl-sunday-with-steve-9627
END:VEVENT

END:VCALENDAR
