BEGIN:VCALENDAR
VERSION:2.0
PRODID:-//ChamberMaster//Event Calendar 2.0//EN
METHOD:PUBLISH
X-PUBLISHED-TTL:P3D
REFRESH-INTERVAL:P3D
CALSCALE:GREGORIAN
BEGIN:VEVENT
DTSTART:20180505T190000Z
DTEND:20180505T230000Z
X-MICROSOFT-CDO-ALLDAYEVENT:FALSE
SUMMARY:Tacos & Wine- Cinco de Mayo Fiesta
DESCRIPTION:Join us as we celebrate Cinco De Mayo at our tasting room at the Winery in Paso Robles! Enjoy wines paired with freshly made $2 house tacos with all the fixings on our outdoor patio. Wines and food available by purchase. Come hungry and early\; tacos will be available while supplies last!
X-ALT-DESC;FMTTYPE=text/html:<span style="color:rgb(78\, 78\, 78)\; font-family:cardo-regular\,sans-serif\; font-size:16px">Join us as we celebrate Cinco De Mayo at our tasting room at the Winery in Paso Robles! Enjoy wines paired with freshly made $2 house tacos with all the fixings on our outdoor patio. Wines and food available by purchase. Come hungry and early\; tacos will be available while supplies last!&nbsp\;</span>
LOCATION:Tasting Room at the Winery in Paso Robles 7300 North River Road Paso Robles\, CA 93446
UID:e.2488.9157
SEQUENCE:3
DTSTAMP:20260421T235148Z
URL:https://business.pasorobleschamber.com/events/details/tacos-wine-cinco-de-mayo-fiesta-9157
END:VEVENT

END:VCALENDAR
