BEGIN:VCALENDAR
VERSION:2.0
PRODID:-//ChamberMaster//Event Calendar 2.0//EN
METHOD:PUBLISH
X-PUBLISHED-TTL:P3D
REFRESH-INTERVAL:P3D
CALSCALE:GREGORIAN
BEGIN:VEVENT
DTSTART:20250920T180000Z
DTEND:20250920T230000Z
X-MICROSOFT-CDO-ALLDAYEVENT:FALSE
SUMMARY:Taste of Downtown and Arte de Tiza
DESCRIPTION:Sat.\, Sept. 20\, 2025\, Taste of Downtown Paso Robles from 11 am to 4 pm. Tickets include tastes from over 35 different downtown eateries and wineries. At the same time\, enjoy the the artwork of Arte de Tiza (sidewalk chalk art) starting at 8 am on Pine Street.
X-ALT-DESC;FMTTYPE=text/html:Sat.\, Sept. 20\, 2025\, Taste of Downtown Paso Robles from 11 am to 4 pm. Tickets include tastes from over 35 different downtown eateries and wineries. At the same time\, enjoy the the artwork of Arte de Tiza (sidewalk chalk art) starting at 8 am on Pine Street.
LOCATION:Downtown Paso Robles
UID:e.2488.17227
SEQUENCE:3
DTSTAMP:20260421T051432Z
URL:https://business.pasorobleschamber.com/events/details/taste-of-downtown-and-arte-de-tiza-09-20-2025-17227
END:VEVENT

END:VCALENDAR
