BEGIN:VCALENDAR
VERSION:2.0
PRODID:-//ChamberMaster//Event Calendar 2.0//EN
METHOD:PUBLISH
X-PUBLISHED-TTL:P3D
REFRESH-INTERVAL:P3D
CALSCALE:GREGORIAN
BEGIN:VEVENT
DTSTART;VALUE=DATE:20160917
DTEND;VALUE=DATE:20160918
TRANSP:TRANSPARENT
X-MICROSOFT-CDO-ALLDAYEVENT:TRUE
SUMMARY:Taste of Downtown & Art de Tiza
DESCRIPTION:19th Annual Taste of Downtown and Art de Tiza.  Partner with Art Association
X-ALT-DESC;FMTTYPE=text/html:19th Annual Taste of Downtown and Art de Tiza. &nbsp\;Partner with Art Association
LOCATION:Down Town City Park
UID:e.2488.4747
SEQUENCE:3
DTSTAMP:20260424T081135Z
URL:https://business.pasorobleschamber.com/events/details/taste-of-downtown-art-de-tiza-09-17-2016-4747
END:VEVENT

END:VCALENDAR
