BEGIN:VCALENDAR
VERSION:2.0
PRODID:-//ChamberMaster//Event Calendar 2.0//EN
METHOD:PUBLISH
X-PUBLISHED-TTL:P3D
REFRESH-INTERVAL:P3D
CALSCALE:GREGORIAN
BEGIN:VEVENT
DTSTART:20170812T020000Z
DTEND:20170812T040000Z
X-MICROSOFT-CDO-ALLDAYEVENT:FALSE
SUMMARY:Teacher's Night Out at Dana Adobe
DESCRIPTION:If you are a teacher\, we would love to invite you to join us Friday\, August 11 from 7:00 - 9:00 PM for a Teacher's Night Out at the Dana Adobe. Come enjoy an evening of refreshments\, take a tour of the adobe\, and learn about the education programs we offer our local schools.
X-ALT-DESC;FMTTYPE=text/html:If you are a teacher\, we would love to invite you to join us Friday\, August 11 from 7:00 - 9:00 PM for a Teacher&#39\;s Night Out at the Dana Adobe. Come enjoy an evening of refreshments\, take a tour of the adobe\, and learn about the education programs we offer our local schools.
LOCATION:671 S Oakglen Ave\, Nipomo\, CA 93444
UID:e.2488.6555
SEQUENCE:3
DTSTAMP:20260423T163728Z
URL:https://business.pasorobleschamber.com/events/details/teacher-s-night-out-at-dana-adobe-6555
END:VEVENT

END:VCALENDAR
