BEGIN:VCALENDAR
VERSION:2.0
PRODID:-//ChamberMaster//Event Calendar 2.0//EN
METHOD:PUBLISH
X-PUBLISHED-TTL:P3D
REFRESH-INTERVAL:P3D
CALSCALE:GREGORIAN
BEGIN:VEVENT
DTSTART:20180316T020000Z
DTEND:20180325T040000Z
X-MICROSOFT-CDO-ALLDAYEVENT:FALSE
SUMMARY:Templeton High Drama Presents My Fair Lady
DESCRIPTION:Templeton High School Drama presents the beloved musical\, My Fair Lady\, March 15th-17th & 22nd-24th\, at the Templeton Performing Arts Center. A pompous phonetics professor is so sure of his abilities that he takes it upon himself to transform a Cockney working-class girl into someone who can pass for a cultured member of high society. Show times are 7 PM\, with Saturday matinees at 2 PM. Tickets are $15 for General Admission\, $12 for students and seniors\, and can be purchased online at: thsmfl.bpt.me
X-ALT-DESC;FMTTYPE=text/html:Templeton High School Drama presents the beloved musical\, My Fair Lady\, March 15th-17th &amp\; 22nd-24th\, at the Templeton Performing Arts Center. A pompous phonetics professor is so sure of his abilities that he takes it upon himself to transform a Cockney working-class girl into someone who can pass for a cultured member of high society. Show times are 7 PM\, with Saturday matinees at 2 PM. Tickets are $15 for General Admission\, $12 for students and seniors\, and can be purchased online at: thsmfl.bpt.me
LOCATION:Templeton Performing Arts Center
UID:e.2488.8013
SEQUENCE:3
DTSTAMP:20260422T050059Z
URL:https://business.pasorobleschamber.com/events/details/templeton-high-drama-presents-my-fair-lady-8013
END:VEVENT

END:VCALENDAR
