BEGIN:VCALENDAR
VERSION:2.0
PRODID:-//ChamberMaster//Event Calendar 2.0//EN
METHOD:PUBLISH
X-PUBLISHED-TTL:P3D
REFRESH-INTERVAL:P3D
CALSCALE:GREGORIAN
BEGIN:VEVENT
DTSTART:20170806T003000Z
DTEND:20170806T033000Z
X-MICROSOFT-CDO-ALLDAYEVENT:FALSE
SUMMARY:The Blimp Pilots at Riverstar Vineyards
DESCRIPTION:"The Blimp Pilots" are playing a FREE concert live at Riverstar Vineyards on Saturday\, July 8th from 1-4pm. Bring a blanket or lawn chair and your favorite dancing partner! These friendly\, local guys play a variety of 60s/70s rock. The BBQ will be fired up and Riverstar wine will be available by the glass or bottle. All are welcome- children and dogs on leash\, too! Tasting room open 11- 6pm. No outside alcohol.
X-ALT-DESC;FMTTYPE=text/html:&quot\;The Blimp Pilots&quot\; are playing a FREE concert live at Riverstar Vineyards on Saturday\, July 8th from 1-4pm. Bring a blanket or lawn chair and your favorite dancing partner! These friendly\, local guys play a variety of 60s/70s rock. The BBQ will be fired up and Riverstar wine will be available by the glass or bottle. All are welcome- children and dogs on leash\, too! Tasting room open 11- 6pm. No outside alcohol.
LOCATION:Riverstar Vineyards 7450 Estrella Road San Miguel\, CA 93451
UID:e.2488.6550
SEQUENCE:3
DTSTAMP:20260423T222135Z
URL:https://business.pasorobleschamber.com/events/details/the-blimp-pilots-at-riverstar-vineyards-6550
END:VEVENT

END:VCALENDAR
