BEGIN:VCALENDAR
VERSION:2.0
PRODID:-//ChamberMaster//Event Calendar 2.0//EN
METHOD:PUBLISH
X-PUBLISHED-TTL:P3D
REFRESH-INTERVAL:P3D
CALSCALE:GREGORIAN
BEGIN:VEVENT
DTSTART:20170528T190000Z
DTEND:20170528T220000Z
X-MICROSOFT-CDO-ALLDAYEVENT:FALSE
SUMMARY:The Borgen Project Woodstocks Fundraiser
DESCRIPTION:The Borgen Project is a non-profit organization that works to get global poverty a priority in our country's foreign policy. Mention 'The Borgen Project' when ordering at Woodstocks and part of your order will be donated to the organization.
X-ALT-DESC;FMTTYPE=text/html:The Borgen Project is a non-profit organization that works to get global poverty a priority in our country&#39\;s foreign policy. Mention &#39\;The Borgen Project&#39\; when ordering at Woodstocks and part of your order will be donated to the organization.
LOCATION:1000 Higuera St\, San Luis Obispo\, CA 93405
UID:e.2488.6468
SEQUENCE:3
DTSTAMP:20260423T184053Z
URL:https://business.pasorobleschamber.com/events/details/the-borgen-project-woodstocks-fundraiser-6468
END:VEVENT

END:VCALENDAR
