BEGIN:VCALENDAR
VERSION:2.0
PRODID:-//ChamberMaster//Event Calendar 2.0//EN
METHOD:PUBLISH
X-PUBLISHED-TTL:P3D
REFRESH-INTERVAL:P3D
CALSCALE:GREGORIAN
BEGIN:VEVENT
DTSTART:20160220T180000Z
DTEND:20160221T080000Z
X-MICROSOFT-CDO-ALLDAYEVENT:FALSE
SUMMARY:The Inspired Home\, Garden\, and Gourmet Expo of Paso Robles
DESCRIPTION:There will be over 100 home and garden professionals at this fun Home\, Garden\, and Gourmet Expo. You'll find local home professionals who can create all the images from your Pinterest boards\, you can meet your Google ''home improvement'' search list face to face\, and talk directly to people who can create inspiration in your home. The Inspired Home\, Garden\, and Gourmet Expo of Paso Robles offers resources\, tips\, seminars and ideas on building\, decorating\, and organizing your home. There will also be a wine & gourmet food garden with local wineries & restaurants with a $5 wine tasting that benefits a local non-profit. This event is free to all attendees. The expo will be open on Saturday\, 10am-5pm and Sunday\, 10am-4pm.
X-ALT-DESC;FMTTYPE=text/html:There will be over 100 home and garden professionals at this fun Home\, Garden\, and Gourmet Expo. You&#39\;ll find local home professionals who can create all the images from your Pinterest boards\, you can meet your Google &#39\;&#39\;home improvement&#39\;&#39\; search list face to face\, and talk directly to people who can create inspiration in your home. The Inspired Home\, Garden\, and Gourmet Expo of Paso Robles offers resources\, tips\, seminars and ideas on building\, decorating\, and organizing your home. There will also be a wine &amp\; gourmet food garden with local wineries &amp\; restaurants with a $5 wine tasting that benefits a local non-profit. This event is free to all attendees. The expo will be open on Saturday\, 10am-5pm and Sunday\, 10am-4pm.
LOCATION:Paso Robles Event Center\, Paso Robles\, CA 93446 Paso Robles Event Center 2198 Riverside Rd.
UID:e.2488.4480
SEQUENCE:3
DTSTAMP:20260424T212141Z
URL:https://business.pasorobleschamber.com/events/details/the-inspired-home-garden-and-gourmet-expo-of-paso-robles-02-20-2016-4480
END:VEVENT

END:VCALENDAR
