BEGIN:VCALENDAR
VERSION:2.0
PRODID:-//ChamberMaster//Event Calendar 2.0//EN
METHOD:PUBLISH
X-PUBLISHED-TTL:P3D
REFRESH-INTERVAL:P3D
CALSCALE:GREGORIAN
BEGIN:VEVENT
DTSTART:20251116T010000Z
DTEND:20251116T040000Z
X-MICROSOFT-CDO-ALLDAYEVENT:FALSE
SUMMARY:Third Saturday - Elegant Evening
DESCRIPTION:Downtown Paso Robles will be hosting its "Elegant Evening" Event and the Studios will be popping! Start off your Holiday Shopping by exploring all of the amazing creations from local artisans in our "Handcrafted for the Holidays" exhibition. Enjoy live jazz music performed by Take 3 Jazz. Wine will be available to purchase from Rava with a $10 donation to our Kids Art Smart Program. Partake in our COLORbar painting station in the new Teen Art Lab. See what new artwork our resident artists have available in their studios. There's plenty to do and see in the Gallery!
X-ALT-DESC;FMTTYPE=text/html:Downtown Paso Robles will be hosting its &quot\;Elegant Evening&quot\; Event and the Studios will be popping! Start off your Holiday Shopping by exploring all of the amazing creations from local artisans in our &quot\;Handcrafted for the Holidays&quot\; exhibition. Enjoy live jazz music performed by Take 3 Jazz. Wine will be available to purchase from Rava with a $10 donation to our Kids Art Smart Program. Partake in our COLORbar painting station in the new Teen Art Lab. See what new artwork our resident artists have available in their studios. There&#39\;s plenty to do and see in the Gallery!
LOCATION:Studios on the Park 1130 Pine St Paso Robles
UID:e.2488.19908
SEQUENCE:3
DTSTAMP:20260423T233341Z
URL:https://business.pasorobleschamber.com/events/details/third-saturday-elegant-evening-19908
END:VEVENT

END:VCALENDAR
