BEGIN:VCALENDAR
VERSION:2.0
PRODID:-//ChamberMaster//Event Calendar 2.0//EN
METHOD:PUBLISH
X-PUBLISHED-TTL:P3D
REFRESH-INTERVAL:P3D
CALSCALE:GREGORIAN
BEGIN:VEVENT
DTSTART;VALUE=DATE:20170309
DTEND;VALUE=DATE:20170310
TRANSP:TRANSPARENT
X-MICROSOFT-CDO-ALLDAYEVENT:TRUE
SUMMARY:THURSDAY (3/9) Louie Ortega at Senor Sanchos from 5:30 - 8:00 p.m. Drew Johnston at The Pour House from 7:30 - 9:30 p.m.
DESCRIPTION:
X-ALT-DESC;FMTTYPE=text/html:
LOCATION:
UID:e.2488.6101
SEQUENCE:3
DTSTAMP:20260423T224650Z
URL:https://business.pasorobleschamber.com/events/details/thursday-3-9-louie-ortega-at-senor-sanchos-from-5-30-8-00-p-m-drew-johnston-at-the-pour-house-from-7-30-9-30-p-m-6101
END:VEVENT

END:VCALENDAR
