BEGIN:VCALENDAR
VERSION:2.0
PRODID:-//ChamberMaster//Event Calendar 2.0//EN
METHOD:PUBLISH
X-PUBLISHED-TTL:P3D
REFRESH-INTERVAL:P3D
CALSCALE:GREGORIAN
BEGIN:VEVENT
DTSTART;VALUE=DATE:20160820
DTEND;VALUE=DATE:20160821
TRANSP:TRANSPARENT
X-MICROSOFT-CDO-ALLDAYEVENT:TRUE
SUMMARY:Trading Day\, Kid's Flea Market & Bike Rodeo
DESCRIPTION:North County's Largest Yard Sale:  Antiques & Crafts\, Kid's Flea Market Area (3rd to 8th grades).  Bike Rodeo (ages 4-11).
X-ALT-DESC;FMTTYPE=text/html:North County&#39\;s Largest Yard Sale: &nbsp\;Antiques &amp\; Crafts\, Kid&#39\;s Flea Market Area (3rd to 8th grades). &nbsp\;Bike Rodeo (ages 4-11).
LOCATION:Down town City Park
UID:e.2488.4745
SEQUENCE:3
DTSTAMP:20260424T103524Z
URL:https://business.pasorobleschamber.com/events/details/trading-day-kid-s-flea-market-bike-rodeo-08-20-2016-4745
END:VEVENT

END:VCALENDAR
