BEGIN:VCALENDAR
VERSION:2.0
PRODID:-//ChamberMaster//Event Calendar 2.0//EN
METHOD:PUBLISH
X-PUBLISHED-TTL:P3D
REFRESH-INTERVAL:P3D
CALSCALE:GREGORIAN
BEGIN:VEVENT
DTSTART:20171020T020000Z
DTEND:20171020T050000Z
X-MICROSOFT-CDO-ALLDAYEVENT:FALSE
SUMMARY:Tribute Dinner to Windrose Farms: Bill & Barbra Spencer
DESCRIPTION:Ticketed event hosted by Thomas Hill Organic Kitchen with a family-style dinner featuring the fall flavors of Windrose Farm and wine pairing from Tablas Creek (including the public debut of the 2015 Esprit de Tablas!) See the Eventbrite page for full details and pairings!
X-ALT-DESC;FMTTYPE=text/html:Ticketed event hosted by Thomas Hill Organic Kitchen with a family-style dinner featuring the fall flavors of Windrose Farm and wine pairing from Tablas Creek (including the public debut of the 2015 Esprit de Tablas!) See the Eventbrite page for full details and pairings!
LOCATION:Thomas Hill Organic Kitchen Main Dining Room 858 Monterey Street San Luis Obispo\, CA 93401
UID:e.2488.6839
SEQUENCE:3
DTSTAMP:20260423T081334Z
URL:https://business.pasorobleschamber.com/events/details/tribute-dinner-to-windrose-farms-bill-barbra-spencer-6839
END:VEVENT

END:VCALENDAR
