BEGIN:VCALENDAR
VERSION:2.0
PRODID:-//ChamberMaster//Event Calendar 2.0//EN
METHOD:PUBLISH
X-PUBLISHED-TTL:P3D
REFRESH-INTERVAL:P3D
CALSCALE:GREGORIAN
BEGIN:VEVENT
DTSTART:20160605T003000Z
DTEND:20160605T033000Z
X-MICROSOFT-CDO-ALLDAYEVENT:FALSE
SUMMARY:Twilight on the Terrace
DESCRIPTION:The ever popular Twilight on the Terrace at Hearst Castle gets better each year. Don't miss the opportunity to join all your 'Friends' strolling the gardens and enjoying samples from local food & beverage artisans. Live music\, photobooth and silent auction!\n\n$125 for FHC members\n\n$200 non members\n\nFor more details\, please visit: http://www.friendsofhearstcastle.org/special_events.asp\n\nAll proceeds support Friends of Hearst Castle in their continued efforts for the preservation\, conservation and interpretation of Hearst Castle .
X-ALT-DESC;FMTTYPE=text/html:<p>The ever popular Twilight on the Terrace at Hearst Castle gets better each year. Don&#39\;t miss the opportunity to join all your &#39\;Friends&#39\; strolling the gardens and enjoying samples from local food &amp\; beverage artisans. Live music\, photobooth and silent auction!</p>\n\n<p style="text-align:center">$125 for FHC members<br />\n$200 non members</p>\n\n<p>For more details\, please visit:&nbsp\;<a href="http://www.friendsofhearstcastle.org/special_events.asp" style="margin: 0px\; padding: 0px\; text-decoration: none\; outline: none\; cursor: pointer\; color: rgb(105\, 67\, 90)\;">http://www.friendsofhearstcastle.org/special_events.asp</a></p>\n\n<p>All proceeds support Friends of Hearst Castle in their continued efforts for the preservation\, conservation and interpretation of Hearst Castle&reg\;.</p>\n
LOCATION:Hearst Castle 750 Hearst Castle Rd San Simeon\, CA 93452
UID:e.2488.4736
SEQUENCE:3
DTSTAMP:20260424T142632Z
URL:https://business.pasorobleschamber.com/events/details/twilight-on-the-terrace-06-04-2016-4736
END:VEVENT

END:VCALENDAR
